Package: scReClassify Version: 1.10.0 Maintainer: Taiyun Kim MaintainerEmail: taiyun.kim91 at gmail.com git_url: https://git.bioconductor.org/packages/scReClassify git_branch: RELEASE_3_19 git_last_commit: 9e91689 git_last_commit_date: 2024-04-30 11:37:11 -0400 (Tue, 30 Apr 2024)