Package: scRNAseqApp Version: 1.4.0 Command: /Library/Frameworks/R.framework/Resources/bin/R CMD INSTALL scRNAseqApp StartedAt: 2024-10-16 16:18:28 -0400 (Wed, 16 Oct 2024) EndedAt: 2024-10-16 16:20:51 -0400 (Wed, 16 Oct 2024) EllapsedTime: 143.2 seconds RetCode: 0 Status: OK