Package: scRNAseqApp Version: 1.4.0 Command: /Library/Frameworks/R.framework/Resources/bin/R CMD build --keep-empty-dirs --no-resave-data scRNAseqApp StartedAt: 2024-10-16 23:07:49 -0400 (Wed, 16 Oct 2024) EndedAt: 2024-10-16 23:11:45 -0400 (Wed, 16 Oct 2024) EllapsedTime: 235.6 seconds RetCode: 0 Status: OK PackageFile: scRNAseqApp_1.4.0.tar.gz PackageFileSize: 2.176 MiB