Package: scPipe Version: 2.4.0 Command: chmod a+r scPipe -R && E:\biocbuild\bbs-3.19-bioc\R\bin\R.exe CMD build --keep-empty-dirs --no-resave-data scPipe StartedAt: 2024-10-16 21:49:14 -0400 (Wed, 16 Oct 2024) EndedAt: 2024-10-16 21:55:26 -0400 (Wed, 16 Oct 2024) EllapsedTime: 371.3 seconds RetCode: 0 Status: OK PackageFile: scPipe_2.4.0.tar.gz PackageFileSize: 12.46 MiB