Package: scPipe Version: 2.4.0 Command: rm -rf scPipe.buildbin-libdir && mkdir scPipe.buildbin-libdir && E:\biocbuild\bbs-3.19-bioc\R\bin\R.exe CMD INSTALL --build --library=scPipe.buildbin-libdir scPipe_2.4.0.tar.gz StartedAt: 2024-10-17 08:36:09 -0400 (Thu, 17 Oct 2024) EndedAt: 2024-10-17 08:39:41 -0400 (Thu, 17 Oct 2024) EllapsedTime: 212.3 seconds RetCode: 0 Status: OK PackageFile: scPipe_2.4.0.zip PackageFileSize: 17.8 MiB