Package: scPipe Version: 2.4.0 Command: chmod a+r scPipe -R && F:\biocbuild\bbs-3.19-bioc\R\bin\R.exe CMD build --keep-empty-dirs --no-resave-data scPipe StartedAt: 2024-06-26 21:47:30 -0400 (Wed, 26 Jun 2024) EndedAt: 2024-06-26 21:53:43 -0400 (Wed, 26 Jun 2024) EllapsedTime: 373.0 seconds RetCode: 0 Status: OK PackageFile: scPipe_2.4.0.tar.gz PackageFileSize: 12.46 MiB