Package: scPipe Version: 2.4.0 Command: rm -rf scPipe.buildbin-libdir && mkdir scPipe.buildbin-libdir && F:\biocbuild\bbs-3.19-bioc\R\bin\R.exe CMD INSTALL --build --library=scPipe.buildbin-libdir scPipe_2.4.0.tar.gz StartedAt: 2024-06-27 08:53:24 -0400 (Thu, 27 Jun 2024) EndedAt: 2024-06-27 08:57:55 -0400 (Thu, 27 Jun 2024) EllapsedTime: 271.5 seconds RetCode: 0 Status: OK PackageFile: scPipe_2.4.0.zip PackageFileSize: 17.8 MiB