Package: scPipe Version: 2.4.0 Command: /Library/Frameworks/R.framework/Resources/bin/R CMD INSTALL scPipe StartedAt: 2024-10-16 16:11:48 -0400 (Wed, 16 Oct 2024) EndedAt: 2024-10-16 16:16:56 -0400 (Wed, 16 Oct 2024) EllapsedTime: 308.7 seconds RetCode: 0 Status: OK