Package: scPipe Version: 2.4.0 Command: /Library/Frameworks/R.framework/Resources/bin/R CMD check --install=check:scPipe.install-out.txt --library=/Library/Frameworks/R.framework/Resources/library --no-vignettes --timings scPipe_2.4.0.tar.gz StartedAt: 2024-10-17 12:47:09 -0400 (Thu, 17 Oct 2024) EndedAt: 2024-10-17 13:13:03 -0400 (Thu, 17 Oct 2024) EllapsedTime: 1553.5 seconds RetCode: 0 Status: OK CheckDir: scPipe.Rcheck Warnings: 0