Package: scPipe Version: 2.4.0 Command: rm -rf scPipe.buildbin-libdir && mkdir scPipe.buildbin-libdir && /Users/biocbuild/BBS/utils/build-universal.sh scPipe_2.4.0.tar.gz /Library/Frameworks/R.framework/Resources/bin/R scPipe.buildbin-libdir StartedAt: 2024-10-17 17:08:51 -0400 (Thu, 17 Oct 2024) EndedAt: 2024-10-17 17:14:19 -0400 (Thu, 17 Oct 2024) EllapsedTime: 327.9 seconds RetCode: 0 Status: OK PackageFile: scPipe_2.4.0.tgz PackageFileSize: 13.8 MiB