Package: scPipe Version: 2.4.0 Command: /home/biocbuild/R/R-beta-2024-04-15_r86425/bin/R CMD check --install=check:scPipe.install-out.txt --library=/home/biocbuild/R/R-beta-2024-04-15_r86425/site-library --no-vignettes --timings scPipe_2.4.0.tar.gz StartedAt: 2024-05-09 11:45:24 -0000 (Thu, 09 May 2024) EndedAt: 2024-05-09 11:52:54 -0000 (Thu, 09 May 2024) EllapsedTime: 449.8 seconds RetCode: 0 Status: OK CheckDir: scPipe.Rcheck Warnings: 0