Package: scPipe Version: 2.4.0 Command: /home/biocbuild/R/R-beta-2024-04-15_r86425/bin/R CMD build --keep-empty-dirs --no-resave-data scPipe StartedAt: 2024-05-09 03:25:55 -0000 (Thu, 09 May 2024) EndedAt: 2024-05-09 03:33:09 -0000 (Thu, 09 May 2024) EllapsedTime: 433.5 seconds RetCode: 0 Status: OK PackageFile: scPipe_2.4.0.tar.gz PackageFileSize: 12.54 MiB