Package: scPipe Version: 2.4.0 Command: /Library/Frameworks/R.framework/Resources/bin/R CMD build --keep-empty-dirs --no-resave-data scPipe StartedAt: 2024-06-10 04:23:39 -0400 (Mon, 10 Jun 2024) EndedAt: 2024-06-10 04:40:36 -0400 (Mon, 10 Jun 2024) EllapsedTime: 1017.0 seconds RetCode: 0 Status: OK PackageFile: scPipe_2.4.0.tar.gz PackageFileSize: 12.67 MiB