Package: scPipe Version: 2.4.0 Command: rm -rf scPipe.buildbin-libdir && mkdir scPipe.buildbin-libdir && /Users/biocbuild/BBS/utils/build-universal.sh scPipe_2.4.0.tar.gz /Library/Frameworks/R.framework/Resources/bin/R scPipe.buildbin-libdir StartedAt: 2024-10-15 20:12:25 -0400 (Tue, 15 Oct 2024) EndedAt: 2024-10-15 20:15:20 -0400 (Tue, 15 Oct 2024) EllapsedTime: 174.6 seconds RetCode: 0 Status: OK PackageFile: scPipe_2.4.0.tgz PackageFileSize: 13.64 MiB