Package: scPipe Version: 2.4.0 Maintainer: Shian Su MaintainerEmail: su.s at wehi.edu.au git_url: https://git.bioconductor.org/packages/scPipe git_branch: RELEASE_3_19 git_last_commit: 1f02d19 git_last_commit_date: 2024-04-30 11:01:36 -0400 (Tue, 30 Apr 2024)