Package: scPCA Version: 1.18.0 Command: rm -rf scPCA.buildbin-libdir && mkdir scPCA.buildbin-libdir && F:\biocbuild\bbs-3.19-bioc\R\bin\R.exe CMD INSTALL --build --library=scPCA.buildbin-libdir scPCA_1.18.0.tar.gz StartedAt: 2024-06-27 08:53:21 -0400 (Thu, 27 Jun 2024) EndedAt: 2024-06-27 08:53:54 -0400 (Thu, 27 Jun 2024) EllapsedTime: 32.8 seconds RetCode: 0 Status: OK PackageFile: scPCA_1.18.0.zip PackageFileSize: 909.2 KiB