Package: scMultiSim Version: 1.0.0 Command: chmod a+r scMultiSim -R && F:\biocbuild\bbs-3.19-bioc\R\bin\R.exe CMD build --keep-empty-dirs --no-resave-data scMultiSim StartedAt: 2024-06-26 21:46:26 -0400 (Wed, 26 Jun 2024) EndedAt: 2024-06-26 21:51:26 -0400 (Wed, 26 Jun 2024) EllapsedTime: 299.7 seconds RetCode: 0 Status: OK PackageFile: scMultiSim_1.0.0.tar.gz PackageFileSize: 3.846 MiB