Package: scMultiSim Version: 1.0.0 Command: /Library/Frameworks/R.framework/Resources/bin/R CMD check --install=check:scMultiSim.install-out.txt --library=/Library/Frameworks/R.framework/Resources/library --no-vignettes --timings scMultiSim_1.0.0.tar.gz StartedAt: 2024-10-17 12:44:05 -0400 (Thu, 17 Oct 2024) EndedAt: 2024-10-17 12:53:03 -0400 (Thu, 17 Oct 2024) EllapsedTime: 537.7 seconds RetCode: 0 Status: OK CheckDir: scMultiSim.Rcheck Warnings: 0