Package: scMultiSim Version: 1.0.0 Command: /home/biocbuild/R/R-beta-2024-04-15_r86425/bin/R CMD build --keep-empty-dirs --no-resave-data scMultiSim StartedAt: 2024-05-09 03:24:52 -0000 (Thu, 09 May 2024) EndedAt: 2024-05-09 03:31:29 -0000 (Thu, 09 May 2024) EllapsedTime: 397.5 seconds RetCode: 0 Status: OK PackageFile: scMultiSim_1.0.0.tar.gz PackageFileSize: 3.926 MiB