Package: scMitoMut Version: 1.0.0 Command: E:\biocbuild\bbs-3.19-bioc\R\bin\R.exe CMD INSTALL scMitoMut StartedAt: 2024-10-16 16:08:50 -0400 (Wed, 16 Oct 2024) EndedAt: 2024-10-16 16:10:17 -0400 (Wed, 16 Oct 2024) EllapsedTime: 87.2 seconds RetCode: 0 Status: OK