Package: scMitoMut Version: 1.0.0 Command: rm -rf scMitoMut.buildbin-libdir && mkdir scMitoMut.buildbin-libdir && E:\biocbuild\bbs-3.19-bioc\R\bin\R.exe CMD INSTALL --build --library=scMitoMut.buildbin-libdir scMitoMut_1.0.0.tar.gz StartedAt: 2024-10-17 08:35:42 -0400 (Thu, 17 Oct 2024) EndedAt: 2024-10-17 08:36:24 -0400 (Thu, 17 Oct 2024) EllapsedTime: 41.2 seconds RetCode: 0 Status: OK PackageFile: scMitoMut_1.0.0.zip PackageFileSize: 1.37 MiB