Package: scMitoMut Version: 1.0.0 Command: rm -rf scMitoMut.buildbin-libdir && mkdir scMitoMut.buildbin-libdir && F:\biocbuild\bbs-3.19-bioc\R\bin\R.exe CMD INSTALL --build --library=scMitoMut.buildbin-libdir scMitoMut_1.0.0.tar.gz StartedAt: 2024-06-27 08:53:03 -0400 (Thu, 27 Jun 2024) EndedAt: 2024-06-27 08:53:44 -0400 (Thu, 27 Jun 2024) EllapsedTime: 40.9 seconds RetCode: 0 Status: OK PackageFile: scMitoMut_1.0.0.zip PackageFileSize: 1.37 MiB