Package: scMitoMut Version: 1.0.0 Command: /home/biocbuild/bbs-3.19-bioc/R/bin/R CMD build --keep-empty-dirs --no-resave-data scMitoMut StartedAt: 2024-10-16 20:42:35 -0400 (Wed, 16 Oct 2024) EndedAt: 2024-10-16 20:43:13 -0400 (Wed, 16 Oct 2024) EllapsedTime: 37.1 seconds RetCode: 0 Status: OK PackageFile: scMitoMut_1.0.0.tar.gz PackageFileSize: 1.088 MiB