Package: scMitoMut Version: 1.0.0 Command: rm -rf scMitoMut.buildbin-libdir && mkdir scMitoMut.buildbin-libdir && /Users/biocbuild/BBS/utils/build-universal.sh scMitoMut_1.0.0.tar.gz /Library/Frameworks/R.framework/Resources/bin/R scMitoMut.buildbin-libdir StartedAt: 2024-10-15 20:10:26 -0400 (Tue, 15 Oct 2024) EndedAt: 2024-10-15 20:10:52 -0400 (Tue, 15 Oct 2024) EllapsedTime: 26.0 seconds RetCode: 0 Status: OK PackageFile: scMitoMut_1.0.0.tgz PackageFileSize: 1.25 MiB