Package: scMerge Version: 1.20.0 Command: /Library/Frameworks/R.framework/Resources/bin/R CMD build --keep-empty-dirs --no-resave-data scMerge StartedAt: 2024-10-17 08:39:25 -0400 (Thu, 17 Oct 2024) EndedAt: 2024-10-17 08:42:26 -0400 (Thu, 17 Oct 2024) EllapsedTime: 180.9 seconds RetCode: 0 Status: OK PackageFile: scMerge_1.20.0.tar.gz PackageFileSize: 3.44 MiB