Package: scMET Version: 1.6.0 Command: E:\biocbuild\bbs-3.19-bioc\R\bin\R.exe CMD INSTALL scMET StartedAt: 2024-10-16 16:47:26 -0400 (Wed, 16 Oct 2024) EndedAt: 2024-10-16 16:49:33 -0400 (Wed, 16 Oct 2024) EllapsedTime: 127.1 seconds RetCode: 0 Status: OK