Package: scMET Version: 1.6.0 Command: chmod a+r scMET -R && E:\biocbuild\bbs-3.19-bioc\R\bin\R.exe CMD build --keep-empty-dirs --no-resave-data scMET StartedAt: 2024-10-16 21:46:50 -0400 (Wed, 16 Oct 2024) EndedAt: 2024-10-16 21:52:06 -0400 (Wed, 16 Oct 2024) EllapsedTime: 315.9 seconds RetCode: 0 Status: OK PackageFile: scMET_1.6.0.tar.gz PackageFileSize: 2.415 MiB