Package: scMET Version: 1.6.0 Command: chmod a+r scMET -R && F:\biocbuild\bbs-3.19-bioc\R\bin\R.exe CMD build --keep-empty-dirs --no-resave-data scMET StartedAt: 2024-06-26 21:46:12 -0400 (Wed, 26 Jun 2024) EndedAt: 2024-06-26 21:50:48 -0400 (Wed, 26 Jun 2024) EllapsedTime: 275.1 seconds RetCode: 0 Status: OK PackageFile: scMET_1.6.0.tar.gz PackageFileSize: 2.415 MiB