Package: scMET Version: 1.6.0 Command: /home/biocbuild/bbs-3.19-bioc/R/bin/R CMD build --keep-empty-dirs --no-resave-data scMET StartedAt: 2024-10-16 20:42:28 -0400 (Wed, 16 Oct 2024) EndedAt: 2024-10-16 20:45:59 -0400 (Wed, 16 Oct 2024) EllapsedTime: 210.4 seconds RetCode: 0 Status: OK PackageFile: scMET_1.6.0.tar.gz PackageFileSize: 3.109 MiB