Package: scMET Version: 1.6.0 Command: /Library/Frameworks/R.framework/Resources/bin/R CMD INSTALL scMET StartedAt: 2024-10-16 16:04:10 -0400 (Wed, 16 Oct 2024) EndedAt: 2024-10-16 16:07:52 -0400 (Wed, 16 Oct 2024) EllapsedTime: 222.4 seconds RetCode: 0 Status: OK