Package: scMET Version: 1.6.0 Command: /Library/Frameworks/R.framework/Resources/bin/R CMD build --keep-empty-dirs --no-resave-data scMET StartedAt: 2024-10-16 23:01:08 -0400 (Wed, 16 Oct 2024) EndedAt: 2024-10-16 23:09:56 -0400 (Wed, 16 Oct 2024) EllapsedTime: 527.4 seconds RetCode: 0 Status: OK PackageFile: scMET_1.6.0.tar.gz PackageFileSize: 3.282 MiB