Package: scMET Version: 1.6.0 Command: /home/biocbuild/R/R-beta-2024-04-15_r86425/bin/R CMD build --keep-empty-dirs --no-resave-data scMET StartedAt: 2024-05-09 03:24:45 -0000 (Thu, 09 May 2024) EndedAt: 2024-05-09 03:30:06 -0000 (Thu, 09 May 2024) EllapsedTime: 321.4 seconds RetCode: 0 Status: OK PackageFile: scMET_1.6.0.tar.gz PackageFileSize: 2.65 MiB