Package: scHOT Version: 1.16.0 Command: /Library/Frameworks/R.framework/Resources/bin/R CMD check --install=check:scHOT.install-out.txt --library=/Library/Frameworks/R.framework/Resources/library --no-vignettes --timings scHOT_1.16.0.tar.gz StartedAt: 2024-10-17 12:40:51 -0400 (Thu, 17 Oct 2024) EndedAt: 2024-10-17 12:52:16 -0400 (Thu, 17 Oct 2024) EllapsedTime: 684.8 seconds RetCode: 0 Status: OK CheckDir: scHOT.Rcheck Warnings: 0