Package: scHOT Version: 1.16.0 Command: rm -rf scHOT.buildbin-libdir && mkdir scHOT.buildbin-libdir && /Users/biocbuild/BBS/utils/build-universal.sh scHOT_1.16.0.tar.gz /Library/Frameworks/R.framework/Resources/bin/R scHOT.buildbin-libdir StartedAt: 2024-10-17 17:07:41 -0400 (Thu, 17 Oct 2024) EndedAt: 2024-10-17 17:08:51 -0400 (Thu, 17 Oct 2024) EllapsedTime: 70.5 seconds RetCode: 0 Status: OK PackageFile: scHOT_1.16.0.tgz PackageFileSize: 2.693 MiB