Package: scGPS Version: 1.18.0 Command: F:\biocbuild\bbs-3.19-bioc\R\bin\R.exe CMD INSTALL scGPS StartedAt: 2024-06-26 16:39:46 -0400 (Wed, 26 Jun 2024) EndedAt: 2024-06-26 16:41:17 -0400 (Wed, 26 Jun 2024) EllapsedTime: 91.3 seconds RetCode: 0 Status: OK