Package: scGPS Version: 1.18.0 Command: /Library/Frameworks/R.framework/Resources/bin/R CMD check --install=check:scGPS.install-out.txt --library=/Library/Frameworks/R.framework/Resources/library --no-vignettes --timings scGPS_1.18.0.tar.gz StartedAt: 2024-06-11 04:33:10 -0400 (Tue, 11 Jun 2024) EndedAt: 2024-06-11 04:46:17 -0400 (Tue, 11 Jun 2024) EllapsedTime: 786.4 seconds RetCode: 0 Status: OK CheckDir: scGPS.Rcheck Warnings: 0