Package: scFeatures Version: 1.4.0 Command: /home/biocbuild/bbs-3.19-bioc/R/bin/R CMD build --keep-empty-dirs --no-resave-data scFeatures StartedAt: 2024-10-16 20:40:41 -0400 (Wed, 16 Oct 2024) EndedAt: 2024-10-16 20:42:35 -0400 (Wed, 16 Oct 2024) EllapsedTime: 114.2 seconds RetCode: 0 Status: OK PackageFile: scFeatures_1.4.0.tar.gz PackageFileSize: 2.917 MiB