Package: scFeatures Version: 1.4.0 Command: /Library/Frameworks/R.framework/Resources/bin/R CMD build --keep-empty-dirs --no-resave-data scFeatures StartedAt: 2024-10-17 08:34:46 -0400 (Thu, 17 Oct 2024) EndedAt: 2024-10-17 08:37:18 -0400 (Thu, 17 Oct 2024) EllapsedTime: 151.4 seconds RetCode: 0 Status: OK PackageFile: scFeatures_1.4.0.tar.gz PackageFileSize: 2.927 MiB