Package: scFeatureFilter Version: 1.24.0 Maintainer: Guillaume Devailly MaintainerEmail: gdevailly at hotmail.com git_url: https://git.bioconductor.org/packages/scFeatureFilter git_branch: RELEASE_3_19 git_last_commit: ad3e69b git_last_commit_date: 2024-04-30 11:03:05 -0400 (Tue, 30 Apr 2024)