Package: scDesign3 Version: 1.2.0 Command: rm -rf scDesign3.buildbin-libdir && mkdir scDesign3.buildbin-libdir && F:\biocbuild\bbs-3.19-bioc\R\bin\R.exe CMD INSTALL --build --library=scDesign3.buildbin-libdir scDesign3_1.2.0.tar.gz StartedAt: 2024-06-27 08:52:25 -0400 (Thu, 27 Jun 2024) EndedAt: 2024-06-27 08:52:42 -0400 (Thu, 27 Jun 2024) EllapsedTime: 16.8 seconds RetCode: 0 Status: OK PackageFile: scDesign3_1.2.0.zip PackageFileSize: 923 KiB