Package: scDesign3 Version: 1.2.0 Command: /Library/Frameworks/R.framework/Resources/bin/R CMD build --keep-empty-dirs --no-resave-data scDesign3 StartedAt: 2024-10-16 22:57:47 -0400 (Wed, 16 Oct 2024) EndedAt: 2024-10-16 23:00:47 -0400 (Wed, 16 Oct 2024) EllapsedTime: 180.0 seconds RetCode: 0 Status: OK PackageFile: scDesign3_1.2.0.tar.gz PackageFileSize: 1019 KiB