Package: scDesign3 Version: 1.2.0 Command: rm -rf scDesign3.buildbin-libdir && mkdir scDesign3.buildbin-libdir && /Users/biocbuild/BBS/utils/build-universal.sh scDesign3_1.2.0.tar.gz /Library/Frameworks/R.framework/Resources/bin/R scDesign3.buildbin-libdir StartedAt: 2024-10-17 17:07:17 -0400 (Thu, 17 Oct 2024) EndedAt: 2024-10-17 17:07:41 -0400 (Thu, 17 Oct 2024) EllapsedTime: 23.6 seconds RetCode: 0 Status: OK PackageFile: scDesign3_1.2.0.tgz PackageFileSize: 1.13 MiB