Package: scDesign3 Version: 1.2.0 Command: /home/biocbuild/R/R-beta-2024-04-15_r86425/bin/R CMD check --install=check:scDesign3.install-out.txt --library=/home/biocbuild/R/R-beta-2024-04-15_r86425/site-library --no-vignettes --timings scDesign3_1.2.0.tar.gz StartedAt: 2024-05-09 11:38:13 -0000 (Thu, 09 May 2024) EndedAt: 2024-05-09 11:41:29 -0000 (Thu, 09 May 2024) EllapsedTime: 196.3 seconds RetCode: 0 Status: OK CheckDir: scDesign3.Rcheck Warnings: 0