Package: scDesign3 Version: 1.2.0 Command: /Library/Frameworks/R.framework/Resources/bin/R CMD check --install=check:scDesign3.install-out.txt --library=/Library/Frameworks/R.framework/Resources/library --no-vignettes --timings scDesign3_1.2.0.tar.gz StartedAt: 2024-10-18 11:11:07 -0400 (Fri, 18 Oct 2024) EndedAt: 2024-10-18 11:14:21 -0400 (Fri, 18 Oct 2024) EllapsedTime: 193.9 seconds RetCode: 0 Status: OK CheckDir: scDesign3.Rcheck Warnings: 0