Package: scDesign3 Version: 1.2.0 Command: /Library/Frameworks/R.framework/Resources/bin/R CMD build --keep-empty-dirs --no-resave-data scDesign3 StartedAt: 2024-10-17 08:33:26 -0400 (Thu, 17 Oct 2024) EndedAt: 2024-10-17 08:34:52 -0400 (Thu, 17 Oct 2024) EllapsedTime: 85.8 seconds RetCode: 0 Status: OK PackageFile: scDesign3_1.2.0.tar.gz PackageFileSize: 1003 KiB