Package: scDesign3 Version: 1.2.0 Maintainer: Dongyuan Song MaintainerEmail: dongyuansong at ucla.edu git_url: https://git.bioconductor.org/packages/scDesign3 git_branch: RELEASE_3_19 git_last_commit: 7e54466 git_last_commit_date: 2024-04-30 11:52:48 -0400 (Tue, 30 Apr 2024)