Package: scDblFinder Version: 1.18.0 Command: E:\biocbuild\bbs-3.19-bioc\R\bin\R.exe CMD INSTALL scDblFinder StartedAt: 2024-10-16 17:12:55 -0400 (Wed, 16 Oct 2024) EndedAt: 2024-10-16 17:13:53 -0400 (Wed, 16 Oct 2024) EllapsedTime: 57.6 seconds RetCode: 0 Status: OK