Package: scDblFinder Version: 1.18.0 Command: chmod a+r scDblFinder -R && E:\biocbuild\bbs-3.19-bioc\R\bin\R.exe CMD build --keep-empty-dirs --no-resave-data scDblFinder StartedAt: 2024-10-16 21:44:17 -0400 (Wed, 16 Oct 2024) EndedAt: 2024-10-16 21:47:36 -0400 (Wed, 16 Oct 2024) EllapsedTime: 199.9 seconds RetCode: 0 Status: OK PackageFile: scDblFinder_1.18.0.tar.gz PackageFileSize: 1.861 MiB