Package: scDblFinder Version: 1.18.0 Command: rm -rf scDblFinder.buildbin-libdir && mkdir scDblFinder.buildbin-libdir && E:\biocbuild\bbs-3.19-bioc\R\bin\R.exe CMD INSTALL --build --library=scDblFinder.buildbin-libdir scDblFinder_1.18.0.tar.gz StartedAt: 2024-10-17 08:34:49 -0400 (Thu, 17 Oct 2024) EndedAt: 2024-10-17 08:35:49 -0400 (Thu, 17 Oct 2024) EllapsedTime: 59.8 seconds RetCode: 0 Status: OK PackageFile: scDblFinder_1.18.0.zip PackageFileSize: 2.05 MiB