Package: scDblFinder Version: 1.18.0 Command: chmod a+r scDblFinder -R && F:\biocbuild\bbs-3.19-bioc\R\bin\R.exe CMD build --keep-empty-dirs --no-resave-data scDblFinder StartedAt: 2024-06-26 21:42:17 -0400 (Wed, 26 Jun 2024) EndedAt: 2024-06-26 21:48:07 -0400 (Wed, 26 Jun 2024) EllapsedTime: 349.6 seconds RetCode: 0 Status: OK PackageFile: scDblFinder_1.18.0.tar.gz PackageFileSize: 1.861 MiB